BEGIN:VCALENDAR
VERSION:2.0
PRODID:-//Nelson Law, LLC - ECPv6.15.20//NONSGML v1.0//EN
CALSCALE:GREGORIAN
METHOD:PUBLISH
X-ORIGINAL-URL:https://nelson.legal
X-WR-CALDESC:Events for Nelson Law, LLC
REFRESH-INTERVAL;VALUE=DURATION:PT1H
X-Robots-Tag:noindex
X-PUBLISHED-TTL:PT1H
BEGIN:VTIMEZONE
TZID:America/New_York
BEGIN:DAYLIGHT
TZOFFSETFROM:-0500
TZOFFSETTO:-0400
TZNAME:EDT
DTSTART:20250309T070000
END:DAYLIGHT
BEGIN:STANDARD
TZOFFSETFROM:-0400
TZOFFSETTO:-0500
TZNAME:EST
DTSTART:20251102T060000
END:STANDARD
BEGIN:DAYLIGHT
TZOFFSETFROM:-0500
TZOFFSETTO:-0400
TZNAME:EDT
DTSTART:20260308T070000
END:DAYLIGHT
BEGIN:STANDARD
TZOFFSETFROM:-0400
TZOFFSETTO:-0500
TZNAME:EST
DTSTART:20261101T060000
END:STANDARD
BEGIN:DAYLIGHT
TZOFFSETFROM:-0500
TZOFFSETTO:-0400
TZNAME:EDT
DTSTART:20270314T070000
END:DAYLIGHT
BEGIN:STANDARD
TZOFFSETFROM:-0400
TZOFFSETTO:-0500
TZNAME:EST
DTSTART:20271107T060000
END:STANDARD
END:VTIMEZONE
BEGIN:VEVENT
DTSTART;TZID=America/New_York:20260126T140000
DTEND;TZID=America/New_York:20260126T150000
DTSTAMP:20260424T070048
CREATED:20260205T190421Z
LAST-MODIFIED:20260205T190504Z
UID:284783-1769436000-1769439600@nelson.legal
SUMMARY:Trial Lawyers Summit 2026
DESCRIPTION:Forget the Black Box: How Vehicle Data and Embedded Video Reveals the True Story of a Crash \nSession Details: \nModern vehicles generate continuous Vehicle Performance Data (VPD) far beyond the limited snapshots of traditional event data recorders.  This session explains how VPD\, often accompanied by synced vehicle data\, provides a precise and objective record of what occurred in both everyday crashes and complex\, high-risk litigation.  Mike Nelson will outline how VPD is created\, transmitted through embedded vehicle systems\, and obtained from OEMS\, and why it is now accessible\, low-cost resource for plaintiff attorneys evaluating liability\, causation\, and case viability.  Unlike older methods of crash reconstruction\, VPD offers detailed\, time-stamped insight into vehicle behavior\, driver inputs\, and system performance at the moment of impact.  Through real case examples\, Mike Nelson demonstrates how this modern digital evidence can clarify disputed facts\, avoid weak cases\, and strengthen litigation strategy across the full spectrum of motor-vehicle claims.
URL:https://nelson.legal/event/trial-lawyers-summit-2026/
LOCATION:The Lowes Hotel\, Miami\, FL
CATEGORIES:Panelist
END:VEVENT
END:VCALENDAR