BEGIN:VCALENDAR
VERSION:2.0
PRODID:-//Nelson Law, LLC - ECPv6.15.20//NONSGML v1.0//EN
CALSCALE:GREGORIAN
METHOD:PUBLISH
X-ORIGINAL-URL:https://nelson.legal
X-WR-CALDESC:Events for Nelson Law, LLC
REFRESH-INTERVAL;VALUE=DURATION:PT1H
X-Robots-Tag:noindex
X-PUBLISHED-TTL:PT1H
BEGIN:VTIMEZONE
TZID:America/New_York
BEGIN:DAYLIGHT
TZOFFSETFROM:-0500
TZOFFSETTO:-0400
TZNAME:EDT
DTSTART:20250309T070000
END:DAYLIGHT
BEGIN:STANDARD
TZOFFSETFROM:-0400
TZOFFSETTO:-0500
TZNAME:EST
DTSTART:20251102T060000
END:STANDARD
BEGIN:DAYLIGHT
TZOFFSETFROM:-0500
TZOFFSETTO:-0400
TZNAME:EDT
DTSTART:20260308T070000
END:DAYLIGHT
BEGIN:STANDARD
TZOFFSETFROM:-0400
TZOFFSETTO:-0500
TZNAME:EST
DTSTART:20261101T060000
END:STANDARD
BEGIN:DAYLIGHT
TZOFFSETFROM:-0500
TZOFFSETTO:-0400
TZNAME:EDT
DTSTART:20270314T070000
END:DAYLIGHT
BEGIN:STANDARD
TZOFFSETFROM:-0400
TZOFFSETTO:-0500
TZNAME:EST
DTSTART:20271107T060000
END:STANDARD
END:VTIMEZONE
BEGIN:VEVENT
DTSTART;VALUE=DATE:20260303
DTEND;VALUE=DATE:20260304
DTSTAMP:20260424T051623
CREATED:20260205T191108Z
LAST-MODIFIED:20260205T191108Z
UID:284786-1772496000-1772582399@nelson.legal
SUMMARY:Institute for Mobility Education Cohort 1
DESCRIPTION:Start Date: March 3Format: 14-Week Virtual Course | Live & Self-Paced ComponentsAudience: Insurance Professionals\, Attorneys\, Law Enforcement\, Regulators\, and Mobility StakeholdersEnrollment Cap: 75 ParticipantsPricing: $697 Early-Bird | $1\,997 Standard \nDescription:This 14-week immersive certification course is designed to give professionals the tools they need to navigate today’s vehicle data landscape. As cars become rolling computers—capturing millions of data points per drive—claims\, litigation\, and investigations increasingly hinge on understanding what the car knows\, and what data can be retrieved. \nCourse Features: \n\nLive monthly classes with national legal and technical experts\nIndependent coursework between sessions\nReal-world case studies and vehicle data demonstrations\nAudience-specific breakout content for insurers\, attorneys\, OEMs\, and law enforcement\nCertificate awarded upon completion\n\nWhat You’ll Learn: \n\nHow to access and interpret vehicle-performance data (VPD)\, beyond EDRs\nCommon legal and technical barriers to using data in claims and litigation\nHow automation\, telematics\, and OTA updates are reshaping liability\nPrivacy\, arbitration\, and discovery issues tied to modern vehicle contracts\n\nWhether you’re investigating crashes\, litigating ADAS failures\, writing regulations\, or setting claims policy\, this course gives you a competitive edge in the new world of mobility risk. \nSpots are limited—secure your seat today.
URL:https://nelson.legal/event/institute-for-mobility-education-cohort-1/
LOCATION:Zoom
CATEGORIES:Educational Course
END:VEVENT
END:VCALENDAR