BEGIN:VCALENDAR
VERSION:2.0
PRODID:-//Nelson Law, LLC - ECPv6.15.20//NONSGML v1.0//EN
CALSCALE:GREGORIAN
METHOD:PUBLISH
X-WR-CALNAME:Nelson Law, LLC
X-ORIGINAL-URL:https://nelson.legal
X-WR-CALDESC:Events for Nelson Law, LLC
REFRESH-INTERVAL;VALUE=DURATION:PT1H
X-Robots-Tag:noindex
X-PUBLISHED-TTL:PT1H
BEGIN:VTIMEZONE
TZID:America/New_York
BEGIN:DAYLIGHT
TZOFFSETFROM:-0500
TZOFFSETTO:-0400
TZNAME:EDT
DTSTART:20240310T070000
END:DAYLIGHT
BEGIN:STANDARD
TZOFFSETFROM:-0400
TZOFFSETTO:-0500
TZNAME:EST
DTSTART:20241103T060000
END:STANDARD
BEGIN:DAYLIGHT
TZOFFSETFROM:-0500
TZOFFSETTO:-0400
TZNAME:EDT
DTSTART:20250309T070000
END:DAYLIGHT
BEGIN:STANDARD
TZOFFSETFROM:-0400
TZOFFSETTO:-0500
TZNAME:EST
DTSTART:20251102T060000
END:STANDARD
BEGIN:DAYLIGHT
TZOFFSETFROM:-0500
TZOFFSETTO:-0400
TZNAME:EDT
DTSTART:20260308T070000
END:DAYLIGHT
BEGIN:STANDARD
TZOFFSETFROM:-0400
TZOFFSETTO:-0500
TZNAME:EST
DTSTART:20261101T060000
END:STANDARD
END:VTIMEZONE
BEGIN:VEVENT
DTSTART;VALUE=DATE:20251208
DTEND;VALUE=DATE:20251212
DTSTAMP:20260424T053741
CREATED:20251027T184932Z
LAST-MODIFIED:20251120T180334Z
UID:284041-1765152000-1765497599@nelson.legal
SUMMARY:NAIC Fall
DESCRIPTION:2025 Fall National Meeting\nHybrid Format\nHollywood\, FL\nIn Person & Virtual Meeting: December 8-11\, 2025 \nMeeting Documents\n\nTentative Agenda 10/1/2025\n\nNAIC Events App and Website\nAll registered attendees will receive access to: \n\nOpen hybrid meetings taking place during the Fall National Meeting\nMeeting agendas\, materials\, summaries\, and meeting minutes for all open meetings within ten (10) business days after the conclusion of the national meeting\nRecordings of all open meetings taking place during the Fall National Meeting
URL:https://nelson.legal/event/naic-fall/
CATEGORIES:Conference
END:VEVENT
END:VCALENDAR