BEGIN:VCALENDAR
VERSION:2.0
PRODID:-//Nelson Law, LLC - ECPv6.15.20//NONSGML v1.0//EN
CALSCALE:GREGORIAN
METHOD:PUBLISH
X-WR-CALNAME:Nelson Law, LLC
X-ORIGINAL-URL:https://nelson.legal
X-WR-CALDESC:Events for Nelson Law, LLC
REFRESH-INTERVAL;VALUE=DURATION:PT1H
X-Robots-Tag:noindex
X-PUBLISHED-TTL:PT1H
BEGIN:VTIMEZONE
TZID:America/New_York
BEGIN:DAYLIGHT
TZOFFSETFROM:-0500
TZOFFSETTO:-0400
TZNAME:EDT
DTSTART:20240310T070000
END:DAYLIGHT
BEGIN:STANDARD
TZOFFSETFROM:-0400
TZOFFSETTO:-0500
TZNAME:EST
DTSTART:20241103T060000
END:STANDARD
BEGIN:DAYLIGHT
TZOFFSETFROM:-0500
TZOFFSETTO:-0400
TZNAME:EDT
DTSTART:20250309T070000
END:DAYLIGHT
BEGIN:STANDARD
TZOFFSETFROM:-0400
TZOFFSETTO:-0500
TZNAME:EST
DTSTART:20251102T060000
END:STANDARD
BEGIN:DAYLIGHT
TZOFFSETFROM:-0500
TZOFFSETTO:-0400
TZNAME:EDT
DTSTART:20260308T070000
END:DAYLIGHT
BEGIN:STANDARD
TZOFFSETFROM:-0400
TZOFFSETTO:-0500
TZNAME:EST
DTSTART:20261101T060000
END:STANDARD
END:VTIMEZONE
BEGIN:VEVENT
DTSTART;TZID=America/New_York:20251119T143000
DTEND;TZID=America/New_York:20251119T173000
DTSTAMP:20260424T070036
CREATED:20251027T181730Z
LAST-MODIFIED:20251120T180335Z
UID:284036-1763562600-1763573400@nelson.legal
SUMMARY:Speaking Engagement - The Alliance for Automotive Innovation
DESCRIPTION:Vehicle Automation: Exploring Fundamentals\, Policy Challenges\, and Opportunities for Level 3 Vehicles \nLevel 3 autonomous driving systems have the potential to improve vehicle and roadway safety while enhancing the in-vehicle experience for drivers. Although vehicles equipped with level 3 capabilities are becoming increasingly prevalent\, this technology is not widely understood by policymakers or consumers. Join us on Wednesday\, November 19\, at 2:30 PM in Washington\, DC for a discussion on the state of level 3 autonomous technologies and the unique considerations for regulating level 3 vehicles. This event will explore the basics of level 3 vehicle technologies\, novel equipment and design issues\, opportunities for public education\, and approaches for developing an appropriate regulatory framework. Registration is complimentary.
URL:https://nelson.legal/event/speaking-engagement-the-alliance-for-automotive-innovation/
LOCATION:Washington\, DC
CATEGORIES:Conference
END:VEVENT
END:VCALENDAR