BEGIN:VCALENDAR
VERSION:2.0
PRODID:-//Nelson Law, LLC - ECPv6.15.20//NONSGML v1.0//EN
CALSCALE:GREGORIAN
METHOD:PUBLISH
X-ORIGINAL-URL:https://nelson.legal
X-WR-CALDESC:Events for Nelson Law, LLC
REFRESH-INTERVAL;VALUE=DURATION:PT1H
X-Robots-Tag:noindex
X-PUBLISHED-TTL:PT1H
BEGIN:VTIMEZONE
TZID:America/New_York
BEGIN:DAYLIGHT
TZOFFSETFROM:-0500
TZOFFSETTO:-0400
TZNAME:EDT
DTSTART:20240310T070000
END:DAYLIGHT
BEGIN:STANDARD
TZOFFSETFROM:-0400
TZOFFSETTO:-0500
TZNAME:EST
DTSTART:20241103T060000
END:STANDARD
BEGIN:DAYLIGHT
TZOFFSETFROM:-0500
TZOFFSETTO:-0400
TZNAME:EDT
DTSTART:20250309T070000
END:DAYLIGHT
BEGIN:STANDARD
TZOFFSETFROM:-0400
TZOFFSETTO:-0500
TZNAME:EST
DTSTART:20251102T060000
END:STANDARD
BEGIN:DAYLIGHT
TZOFFSETFROM:-0500
TZOFFSETTO:-0400
TZNAME:EDT
DTSTART:20260308T070000
END:DAYLIGHT
BEGIN:STANDARD
TZOFFSETFROM:-0400
TZOFFSETTO:-0500
TZNAME:EST
DTSTART:20261101T060000
END:STANDARD
END:VTIMEZONE
BEGIN:VEVENT
DTSTART;VALUE=DATE:20250807
DTEND;VALUE=DATE:20250808
DTSTAMP:20260424T100948
CREATED:20250730T193621Z
LAST-MODIFIED:20251120T180336Z
UID:283278-1754524800-1754611199@nelson.legal
SUMMARY:Louisiana Department of Insurance Conference
DESCRIPTION:Mike Nelson will be presenting “Risk on the Road: Quantifying Vehicle Data Challenges” at the Louisiana Department of Insurance Conference and will be discussing the use of data currently available on most late model vehicles to analyze crashes and other events on the road.
URL:https://nelson.legal/event/louisiana-department-of-insurance-conference/
CATEGORIES:Conference
ATTACH;FMTTYPE=image/jpeg:https://nelson.legal/wp-content/uploads/2025/07/LDI-Conference-2025.jpg
END:VEVENT
BEGIN:VEVENT
DTSTART;VALUE=DATE:20250810
DTEND;VALUE=DATE:20250814
DTSTAMP:20260424T100948
CREATED:20250730T194228Z
LAST-MODIFIED:20251120T180336Z
UID:283284-1754784000-1755129599@nelson.legal
SUMMARY:2025 NAIC Summer National Meeting
DESCRIPTION:
URL:https://nelson.legal/event/2025-naic-summer-national-meeting/
CATEGORIES:Conference
ATTACH;FMTTYPE=image/jpeg:https://nelson.legal/wp-content/uploads/2025/07/NAIC-Summer-2025.jpg
END:VEVENT
END:VCALENDAR